BEGIN:VCALENDAR
VERSION:2.0
PRODID:-//Clothos - ECPv6.15.20//NONSGML v1.0//EN
CALSCALE:GREGORIAN
METHOD:PUBLISH
X-ORIGINAL-URL:https://clothos.org
X-WR-CALDESC:Events for Clothos
REFRESH-INTERVAL;VALUE=DURATION:PT1H
X-Robots-Tag:noindex
X-PUBLISHED-TTL:PT1H
BEGIN:VTIMEZONE
TZID:America/New_York
BEGIN:DAYLIGHT
TZOFFSETFROM:-0500
TZOFFSETTO:-0400
TZNAME:EDT
DTSTART:20230312T070000
END:DAYLIGHT
BEGIN:STANDARD
TZOFFSETFROM:-0400
TZOFFSETTO:-0500
TZNAME:EST
DTSTART:20231105T060000
END:STANDARD
BEGIN:DAYLIGHT
TZOFFSETFROM:-0500
TZOFFSETTO:-0400
TZNAME:EDT
DTSTART:20240310T070000
END:DAYLIGHT
BEGIN:STANDARD
TZOFFSETFROM:-0400
TZOFFSETTO:-0500
TZNAME:EST
DTSTART:20241103T060000
END:STANDARD
BEGIN:DAYLIGHT
TZOFFSETFROM:-0500
TZOFFSETTO:-0400
TZNAME:EDT
DTSTART:20250309T070000
END:DAYLIGHT
BEGIN:STANDARD
TZOFFSETFROM:-0400
TZOFFSETTO:-0500
TZNAME:EST
DTSTART:20251102T060000
END:STANDARD
BEGIN:DAYLIGHT
TZOFFSETFROM:-0500
TZOFFSETTO:-0400
TZNAME:EDT
DTSTART:20260308T070000
END:DAYLIGHT
BEGIN:STANDARD
TZOFFSETFROM:-0400
TZOFFSETTO:-0500
TZNAME:EST
DTSTART:20261101T060000
END:STANDARD
END:VTIMEZONE
BEGIN:VEVENT
DTSTART;TZID=America/New_York:20251213T110000
DTEND;TZID=America/New_York:20251213T110000
DTSTAMP:20260425T185229
CREATED:20250103T004027Z
LAST-MODIFIED:20250103T004027Z
UID:44108-1765623600-1765623600@clothos.org
SUMMARY:Clothos Meeting
DESCRIPTION:
URL:https://clothos.org/upcoming-area-event/clothos-meeting-12/
LOCATION:Glen Allen Cultural Arts Center\, 2880 Mountain Rd\, Glen Allen\, VA\, 23060\, United States
END:VEVENT
BEGIN:VEVENT
DTSTART;TZID=America/New_York:20251115T110000
DTEND;TZID=America/New_York:20251115T110000
DTSTAMP:20260425T185229
CREATED:20250103T003949Z
LAST-MODIFIED:20250103T003949Z
UID:44106-1763204400-1763204400@clothos.org
SUMMARY:Clothos Meeting
DESCRIPTION:
URL:https://clothos.org/upcoming-area-event/clothos-meeting-11/
LOCATION:Glen Allen Cultural Arts Center\, 2880 Mountain Rd\, Glen Allen\, VA\, 23060\, United States
END:VEVENT
BEGIN:VEVENT
DTSTART;TZID=America/New_York:20251018T110000
DTEND;TZID=America/New_York:20251018T160000
DTSTAMP:20260425T185229
CREATED:20250103T003908Z
LAST-MODIFIED:20250103T003908Z
UID:44104-1760785200-1760803200@clothos.org
SUMMARY:Clothos Meeting
DESCRIPTION:
URL:https://clothos.org/upcoming-area-event/clothos-meeting-10/
LOCATION:Glen Allen Cultural Arts Center\, 2880 Mountain Rd\, Glen Allen\, VA\, 23060\, United States
END:VEVENT
BEGIN:VEVENT
DTSTART;TZID=America/New_York:20250920T110000
DTEND;TZID=America/New_York:20250920T110000
DTSTAMP:20260425T185229
CREATED:20250103T003819Z
LAST-MODIFIED:20250103T003819Z
UID:44102-1758366000-1758366000@clothos.org
SUMMARY:Clothos Meeting
DESCRIPTION:
URL:https://clothos.org/upcoming-area-event/clothos-meeting-9/
LOCATION:Glen Allen Cultural Arts Center\, 2880 Mountain Rd\, Glen Allen\, VA\, 23060\, United States
END:VEVENT
BEGIN:VEVENT
DTSTART;TZID=America/New_York:20250816T110000
DTEND;TZID=America/New_York:20250816T160000
DTSTAMP:20260425T185229
CREATED:20250103T003732Z
LAST-MODIFIED:20250103T003732Z
UID:44100-1755342000-1755360000@clothos.org
SUMMARY:Clothos Meeting
DESCRIPTION:
URL:https://clothos.org/upcoming-area-event/clothos-meeting-8/
LOCATION:Glen Allen Cultural Arts Center\, 2880 Mountain Rd\, Glen Allen\, VA\, 23060\, United States
END:VEVENT
BEGIN:VEVENT
DTSTART;TZID=America/New_York:20250719T110000
DTEND;TZID=America/New_York:20250719T160000
DTSTAMP:20260425T185229
CREATED:20250103T003649Z
LAST-MODIFIED:20250103T003649Z
UID:44098-1752922800-1752940800@clothos.org
SUMMARY:Clothos Meeting
DESCRIPTION:
URL:https://clothos.org/upcoming-area-event/clothos-meeting-7/
LOCATION:Glen Allen Cultural Arts Center\, 2880 Mountain Rd\, Glen Allen\, VA\, 23060\, United States
END:VEVENT
BEGIN:VEVENT
DTSTART;TZID=America/New_York:20250621T110000
DTEND;TZID=America/New_York:20250621T160000
DTSTAMP:20260425T185229
CREATED:20250103T003553Z
LAST-MODIFIED:20250103T003553Z
UID:44096-1750503600-1750521600@clothos.org
SUMMARY:Clothos Meeting
DESCRIPTION:
URL:https://clothos.org/upcoming-area-event/clothos-meeting-6/
LOCATION:Glen Allen Cultural Arts Center\, 2880 Mountain Rd\, Glen Allen\, VA\, 23060\, United States
END:VEVENT
BEGIN:VEVENT
DTSTART;TZID=America/New_York:20250517T110000
DTEND;TZID=America/New_York:20250517T160000
DTSTAMP:20260425T185229
CREATED:20250103T003509Z
LAST-MODIFIED:20250103T003509Z
UID:44094-1747479600-1747497600@clothos.org
SUMMARY:Clothos Meeting
DESCRIPTION:
URL:https://clothos.org/upcoming-area-event/clothos-meeting-5/
LOCATION:Glen Allen Cultural Arts Center\, 2880 Mountain Rd\, Glen Allen\, VA\, 23060\, United States
END:VEVENT
BEGIN:VEVENT
DTSTART;TZID=America/New_York:20250419T110000
DTEND;TZID=America/New_York:20250419T160000
DTSTAMP:20260425T185229
CREATED:20250103T003312Z
LAST-MODIFIED:20250103T003312Z
UID:44092-1745060400-1745078400@clothos.org
SUMMARY:Clothos Meeting
DESCRIPTION:
URL:https://clothos.org/upcoming-area-event/clothos-meeting-4/
LOCATION:Glen Allen Cultural Arts Center\, 2880 Mountain Rd\, Glen Allen\, VA\, 23060\, United States
END:VEVENT
BEGIN:VEVENT
DTSTART;TZID=America/New_York:20250315T110000
DTEND;TZID=America/New_York:20250315T160000
DTSTAMP:20260425T185229
CREATED:20250103T003212Z
LAST-MODIFIED:20250103T003355Z
UID:44090-1742036400-1742054400@clothos.org
SUMMARY:Clothos Meeting
DESCRIPTION:
URL:https://clothos.org/upcoming-area-event/clothos-meeting-3/
LOCATION:Glen Allen Cultural Arts Center\, 2880 Mountain Rd\, Glen Allen\, VA\, 23060\, United States
END:VEVENT
BEGIN:VEVENT
DTSTART;TZID=America/New_York:20250215T110000
DTEND;TZID=America/New_York:20250215T160000
DTSTAMP:20260425T185229
CREATED:20250103T003102Z
LAST-MODIFIED:20250103T003420Z
UID:44088-1739617200-1739635200@clothos.org
SUMMARY:Clothos Meeting
DESCRIPTION:
URL:https://clothos.org/upcoming-area-event/clothos-meeting-2/
LOCATION:Glen Allen Cultural Arts Center\, 2880 Mountain Rd\, Glen Allen\, VA\, 23060\, United States
END:VEVENT
BEGIN:VEVENT
DTSTART;TZID=America/New_York:20250119T120000
DTEND;TZID=America/New_York:20250119T160000
DTSTAMP:20260425T185229
CREATED:20250103T002953Z
LAST-MODIFIED:20250103T010422Z
UID:44086-1737288000-1737302400@clothos.org
SUMMARY:Clothos Retreat
DESCRIPTION:Kelli Wilkinson will be bringing a great wheel to demonstrate and to give a presentation on the history of spinning.
URL:https://clothos.org/upcoming-area-event/clothos-retreat-2/
LOCATION:Glen Allen Cultural Arts Center\, 2880 Mountain Rd\, Glen Allen\, VA\, 23060\, United States
END:VEVENT
BEGIN:VEVENT
DTSTART;TZID=America/New_York:20250118T110000
DTEND;TZID=America/New_York:20250118T160000
DTSTAMP:20260425T185229
CREATED:20250103T002844Z
LAST-MODIFIED:20250103T002916Z
UID:44083-1737198000-1737216000@clothos.org
SUMMARY:Clothos Meeting & Retreat
DESCRIPTION:
URL:https://clothos.org/upcoming-area-event/clothos-retreat/
LOCATION:Glen Allen Cultural Arts Center\, 2880 Mountain Rd\, Glen Allen\, VA\, 23060\, United States
END:VEVENT
BEGIN:VEVENT
DTSTART;TZID=America/New_York:20241214T110000
DTEND;TZID=America/New_York:20241214T160000
DTSTAMP:20260425T185229
CREATED:20231229T015415Z
LAST-MODIFIED:20231229T015632Z
UID:43973-1734174000-1734192000@clothos.org
SUMMARY:December meeting
DESCRIPTION:
URL:https://clothos.org/upcoming-area-event/december-meeting-3/
LOCATION:Glen Allen Cultural Arts Center\, 2880 Mountain Rd\, Glen Allen\, VA\, 23060\, United States
END:VEVENT
BEGIN:VEVENT
DTSTART;TZID=America/New_York:20241116T110000
DTEND;TZID=America/New_York:20241116T160000
DTSTAMP:20260425T185229
CREATED:20231229T015315Z
LAST-MODIFIED:20231229T015315Z
UID:43971-1731754800-1731772800@clothos.org
SUMMARY:November meeting
DESCRIPTION:
URL:https://clothos.org/upcoming-area-event/november-meeting-3/
LOCATION:Glen Allen Cultural Arts Center\, 2880 Mountain Rd\, Glen Allen\, VA\, 23060\, United States
END:VEVENT
BEGIN:VEVENT
DTSTART;TZID=America/New_York:20241019T110000
DTEND;TZID=America/New_York:20241019T160000
DTSTAMP:20260425T185229
CREATED:20231229T015228Z
LAST-MODIFIED:20231229T015228Z
UID:43969-1729335600-1729353600@clothos.org
SUMMARY:October meeting
DESCRIPTION:
URL:https://clothos.org/upcoming-area-event/october-meeting-3/
LOCATION:Glen Allen Cultural Arts Center\, 2880 Mountain Rd\, Glen Allen\, VA\, 23060\, United States
END:VEVENT
BEGIN:VEVENT
DTSTART;TZID=America/New_York:20241006T100000
DTEND;TZID=America/New_York:20241006T160000
DTSTAMP:20260425T185229
CREATED:20241001T034655Z
LAST-MODIFIED:20241001T034655Z
UID:44074-1728208800-1728230400@clothos.org
SUMMARY:2024 Fall Fiber Festival and Montpelier Sheep Dog Trials
DESCRIPTION:Day 2 of the 2024 Fall Fiber Festival and Montpelier Sheep Dog Trials\, come and demonstrate your favorite fiber technique (and maybe do a little stash shopping?)!
URL:https://clothos.org/upcoming-area-event/2024-fall-fiber-festival-and-montpelier-sheep-dog-trials-2/
LOCATION:VA
END:VEVENT
BEGIN:VEVENT
DTSTART;TZID=America/New_York:20241005T100000
DTEND;TZID=America/New_York:20241005T170000
DTSTAMP:20260425T185229
CREATED:20241001T034451Z
LAST-MODIFIED:20241001T034451Z
UID:44072-1728122400-1728147600@clothos.org
SUMMARY:2024 Fall Fiber Festival and Montpelier Sheep Dog Trials
DESCRIPTION:Come and demonstrate spinning\, or your favorite fiber technique\, at the 2024 Fall Fiber Festival and Montpelier Sheep Dog Trials.
URL:https://clothos.org/upcoming-area-event/2024-fall-fiber-festival-and-montpelier-sheep-dog-trials/
LOCATION:James Madison’s Montpelier\, 11395 Constitution Highway\, Montpelier Station\, VA\, 22957\, United States
END:VEVENT
BEGIN:VEVENT
DTSTART;TZID=America/New_York:20241005T100000
DTEND;TZID=America/New_York:20241005T160000
DTSTAMP:20260425T185229
CREATED:20241001T034137Z
LAST-MODIFIED:20241001T034227Z
UID:44070-1728122400-1728144000@clothos.org
SUMMARY:Scotchtown’s Annual Fall Festival
DESCRIPTION:Come and demonstrate spinning\, or your favorite fiber art\, at our booth at Scotchtown’s Annual Fall Festival.
URL:https://clothos.org/upcoming-area-event/scotchtowns-annual-fall-festival/
LOCATION:Patrick Henry’s Scotchtown\, 16120 Chiswell Ln\, Beaverdam\, 23015
END:VEVENT
BEGIN:VEVENT
DTSTART;TZID=America/New_York:20240921T110000
DTEND;TZID=America/New_York:20240921T160000
DTSTAMP:20260425T185229
CREATED:20231229T015145Z
LAST-MODIFIED:20231229T015145Z
UID:43967-1726916400-1726934400@clothos.org
SUMMARY:September meeting
DESCRIPTION:
URL:https://clothos.org/upcoming-area-event/september-meeting-3/
LOCATION:Glen Allen Cultural Arts Center\, 2880 Mountain Rd\, Glen Allen\, VA\, 23060\, United States
END:VEVENT
BEGIN:VEVENT
DTSTART;TZID=America/New_York:20240817T110000
DTEND;TZID=America/New_York:20240817T160000
DTSTAMP:20260425T185229
CREATED:20231229T015054Z
LAST-MODIFIED:20231229T015054Z
UID:43965-1723892400-1723910400@clothos.org
SUMMARY:August meeting
DESCRIPTION:
URL:https://clothos.org/upcoming-area-event/august-meeting-3/
LOCATION:Glen Allen Cultural Arts Center\, 2880 Mountain Rd\, Glen Allen\, VA\, 23060\, United States
END:VEVENT
BEGIN:VEVENT
DTSTART;TZID=America/New_York:20240720T110000
DTEND;TZID=America/New_York:20240720T160000
DTSTAMP:20260425T185229
CREATED:20231229T014845Z
LAST-MODIFIED:20231229T014845Z
UID:43963-1721473200-1721491200@clothos.org
SUMMARY:July meeting
DESCRIPTION:
URL:https://clothos.org/upcoming-area-event/july-meeting-3/
LOCATION:Glen Allen Cultural Arts Center\, 2880 Mountain Rd\, Glen Allen\, VA\, 23060\, United States
END:VEVENT
BEGIN:VEVENT
DTSTART;TZID=America/New_York:20240629T080000
DTEND;TZID=America/New_York:20240721T170000
DTSTAMP:20260425T185229
CREATED:20240616T052403Z
LAST-MODIFIED:20240616T052403Z
UID:44052-1719648000-1721581200@clothos.org
SUMMARY:Tour de Fleece Bingo
DESCRIPTION:Join us as we spin our wheels for a friendly game of bingo.
URL:https://clothos.org/upcoming-area-event/tour-de-fleece-bingo/
LOCATION:VA
END:VEVENT
BEGIN:VEVENT
DTSTART;TZID=America/New_York:20240615T110000
DTEND;TZID=America/New_York:20240615T160000
DTSTAMP:20260425T185229
CREATED:20231229T014729Z
LAST-MODIFIED:20231229T014729Z
UID:43961-1718449200-1718467200@clothos.org
SUMMARY:June meeting
DESCRIPTION:
URL:https://clothos.org/upcoming-area-event/june-meeting-3/
LOCATION:Glen Allen Cultural Arts Center\, 2880 Mountain Rd\, Glen Allen\, VA\, 23060\, United States
END:VEVENT
BEGIN:VEVENT
DTSTART;TZID=America/New_York:20240518T110000
DTEND;TZID=America/New_York:20240518T160000
DTSTAMP:20260425T185229
CREATED:20231229T014614Z
LAST-MODIFIED:20231229T014614Z
UID:43959-1716030000-1716048000@clothos.org
SUMMARY:May meeting
DESCRIPTION:
URL:https://clothos.org/upcoming-area-event/may-meeting-3/
LOCATION:Glen Allen Cultural Arts Center\, 2880 Mountain Rd\, Glen Allen\, VA\, 23060\, United States
END:VEVENT
BEGIN:VEVENT
DTSTART;TZID=America/New_York:20240505T083000
DTEND;TZID=America/New_York:20240505T170000
DTSTAMP:20260425T185229
CREATED:20240313T031646Z
LAST-MODIFIED:20240313T031646Z
UID:44033-1714897800-1714928400@clothos.org
SUMMARY:51st Annual Maryland Sheep & Wool Festival
DESCRIPTION:The gates open at 8:30 both mornings! Rain or shine. Carpool\, bring a friend\, and look around for others when you get there! Some daily highlights…there is an auction on Saturday and the Sheep to Shawl event is held all day Sunday. Look to their website for the full calendar of events. Location: Howard County Fairgrounds\, West Friendship\, MD
URL:https://clothos.org/upcoming-area-event/51st-annual-maryland-sheep-wool-festival-2/
LOCATION:Howard County Fairgrounds\, West Friendship\, MD
END:VEVENT
BEGIN:VEVENT
DTSTART;TZID=America/New_York:20240504T083000
DTEND;TZID=America/New_York:20240504T170000
DTSTAMP:20260425T185229
CREATED:20240313T031553Z
LAST-MODIFIED:20240313T031814Z
UID:44031-1714811400-1714842000@clothos.org
SUMMARY:51st Annual Maryland Sheep & Wool Festival
DESCRIPTION:The gates open at 8:30 both mornings! Rain or shine. Carpool\, bring a friend\, and look around for others when you get there! Some daily highlights…there is an auction on Saturday and the Sheep to Shawl event is held all day Sunday. Look to their website for the full calendar of events. Location: Howard County Fairgrounds\, West Friendship\, MD
URL:https://clothos.org/upcoming-area-event/51st-annual-maryland-sheep-wool-festival/
LOCATION:Howard County Fairgrounds\, West Friendship\, MD
END:VEVENT
BEGIN:VEVENT
DTSTART;TZID=America/New_York:20240503T090000
DTEND;TZID=America/New_York:20240503T163000
DTSTAMP:20260425T185229
CREATED:20240313T031450Z
LAST-MODIFIED:20240313T031450Z
UID:44029-1714726800-1714753800@clothos.org
SUMMARY:The Arc @ Market St
DESCRIPTION:
URL:https://clothos.org/upcoming-area-event/the-arc-market-st-2/
LOCATION:Yarncentrik\, 555 S Market St\, Frederick\, MD\, 21701\, United States
END:VEVENT
BEGIN:VEVENT
DTSTART;TZID=America/New_York:20240502T090000
DTEND;TZID=America/New_York:20240502T170000
DTSTAMP:20260425T185229
CREATED:20240313T031402Z
LAST-MODIFIED:20240313T031402Z
UID:44025-1714640400-1714669200@clothos.org
SUMMARY:The Arc @ Market St
DESCRIPTION:
URL:https://clothos.org/upcoming-area-event/the-arc-market-st/
LOCATION:Yarncentrik\, 555 S Market St\, Frederick\, MD\, 21701\, United States
END:VEVENT
BEGIN:VEVENT
DTSTART;TZID=America/New_York:20240427T110000
DTEND;TZID=America/New_York:20240427T140000
DTSTAMP:20260425T185229
CREATED:20240313T030512Z
LAST-MODIFIED:20240313T030512Z
UID:44019-1714215600-1714226400@clothos.org
SUMMARY:Farm Field Day
DESCRIPTION:After a long break through the pandemic years\, Meadow Farm is bringing back their “Farm Field Day.” They are looking for folks to come and spin and share with the public our hidden spinnin’ talents!
URL:https://clothos.org/upcoming-area-event/farm-field-day/
LOCATION:Meadow Farm Museum at Crump Park\, 3400 Mountain Road\, Glen Allen\, VA\, 23060\, United States
END:VEVENT
END:VCALENDAR