BEGIN:VCALENDAR
VERSION:2.0
PRODID:-//Clothos - ECPv6.15.20//NONSGML v1.0//EN
CALSCALE:GREGORIAN
METHOD:PUBLISH
X-WR-CALNAME:Clothos
X-ORIGINAL-URL:https://clothos.org
X-WR-CALDESC:Events for Clothos
REFRESH-INTERVAL;VALUE=DURATION:PT1H
X-Robots-Tag:noindex
X-PUBLISHED-TTL:PT1H
BEGIN:VTIMEZONE
TZID:America/New_York
BEGIN:DAYLIGHT
TZOFFSETFROM:-0500
TZOFFSETTO:-0400
TZNAME:EDT
DTSTART:20210314T070000
END:DAYLIGHT
BEGIN:STANDARD
TZOFFSETFROM:-0400
TZOFFSETTO:-0500
TZNAME:EST
DTSTART:20211107T060000
END:STANDARD
BEGIN:DAYLIGHT
TZOFFSETFROM:-0500
TZOFFSETTO:-0400
TZNAME:EDT
DTSTART:20220313T070000
END:DAYLIGHT
BEGIN:STANDARD
TZOFFSETFROM:-0400
TZOFFSETTO:-0500
TZNAME:EST
DTSTART:20221106T060000
END:STANDARD
BEGIN:DAYLIGHT
TZOFFSETFROM:-0500
TZOFFSETTO:-0400
TZNAME:EDT
DTSTART:20230312T070000
END:DAYLIGHT
BEGIN:STANDARD
TZOFFSETFROM:-0400
TZOFFSETTO:-0500
TZNAME:EST
DTSTART:20231105T060000
END:STANDARD
BEGIN:DAYLIGHT
TZOFFSETFROM:-0500
TZOFFSETTO:-0400
TZNAME:EDT
DTSTART:20240310T070000
END:DAYLIGHT
BEGIN:STANDARD
TZOFFSETFROM:-0400
TZOFFSETTO:-0500
TZNAME:EST
DTSTART:20241103T060000
END:STANDARD
END:VTIMEZONE
BEGIN:VEVENT
DTSTART;VALUE=DATE:20231020
DTEND;VALUE=DATE:20231023
DTSTAMP:20260426T003052
CREATED:20230614T024402Z
LAST-MODIFIED:20230614T024402Z
UID:43912-1697760000-1698019199@clothos.org
SUMMARY:Southeastern Animal Fiber Fair
DESCRIPTION:
URL:https://clothos.org/upcoming-area-event/southeastern-animal-fiber-fair/
END:VEVENT
BEGIN:VEVENT
DTSTART;TZID=America/New_York:20231008T100000
DTEND;TZID=America/New_York:20231008T160000
DTSTAMP:20260426T003052
CREATED:20230614T023535Z
LAST-MODIFIED:20230614T023535Z
UID:43908-1696759200-1696780800@clothos.org
SUMMARY:2023 Fall Fiber Festival and Montpelier Sheep Dog Trials
DESCRIPTION:
URL:https://clothos.org/upcoming-area-event/2023-fall-fiber-festival-and-montpelier-sheep-dog-trials-2/
LOCATION:James Madison’s Montpelier\, 11395 Constitution Highway\, Montpelier Station\, VA\, 22957\, United States
END:VEVENT
BEGIN:VEVENT
DTSTART;TZID=America/New_York:20231007T100000
DTEND;TZID=America/New_York:20231007T170000
DTSTAMP:20260426T003052
CREATED:20230614T023417Z
LAST-MODIFIED:20230614T023607Z
UID:43906-1696672800-1696698000@clothos.org
SUMMARY:2023 Fall Fiber Festival and Montpelier Sheep Dog Trials
DESCRIPTION:
URL:https://clothos.org/upcoming-area-event/2023-fall-fiber-festival-and-montpelier-sheep-dog-trials/
LOCATION:James Madison’s Montpelier\, 11395 Constitution Highway\, Montpelier Station\, VA\, 22957\, United States
END:VEVENT
BEGIN:VEVENT
DTSTART;TZID=America/New_York:20230916T110000
DTEND;TZID=America/New_York:20230916T160000
DTSTAMP:20260426T003052
CREATED:20230104T032913Z
LAST-MODIFIED:20230104T032913Z
UID:43780-1694862000-1694880000@clothos.org
SUMMARY:September Meeting
DESCRIPTION:
URL:https://clothos.org/upcoming-area-event/september-meeting-2/
LOCATION:Glen Allen Cultural Arts Center\, 2880 Mountain Rd\, Glen Allen\, VA\, 23060\, United States
END:VEVENT
BEGIN:VEVENT
DTSTART;TZID=America/New_York:20230819T110000
DTEND;TZID=America/New_York:20230819T160000
DTSTAMP:20260426T003052
CREATED:20230104T032750Z
LAST-MODIFIED:20230104T032750Z
UID:43778-1692442800-1692460800@clothos.org
SUMMARY:August Meeting
DESCRIPTION:
URL:https://clothos.org/upcoming-area-event/august-meeting-2/
LOCATION:Glen Allen Cultural Arts Center\, 2880 Mountain Rd\, Glen Allen\, VA\, 23060\, United States
END:VEVENT
BEGIN:VEVENT
DTSTART;TZID=America/New_York:20230715T110000
DTEND;TZID=America/New_York:20230715T160000
DTSTAMP:20260426T003052
CREATED:20230104T032645Z
LAST-MODIFIED:20230104T032645Z
UID:43776-1689418800-1689436800@clothos.org
SUMMARY:July Meeting
DESCRIPTION:
URL:https://clothos.org/upcoming-area-event/july-meeting-2/
LOCATION:Glen Allen Cultural Arts Center\, 2880 Mountain Rd\, Glen Allen\, VA\, 23060\, United States
END:VEVENT
BEGIN:VEVENT
DTSTART;TZID=America/New_York:20230702T110000
DTEND;TZID=America/New_York:20230702T140000
DTSTAMP:20260426T003052
CREATED:20230614T022748Z
LAST-MODIFIED:20230614T022839Z
UID:43903-1688295600-1688306400@clothos.org
SUMMARY:Ice Dyeing Day
DESCRIPTION:Offered by the Central Virginia Fiberarts Guild \nFor more information and to register: https://cvfg.org/event/ice-dyeing-day/
URL:https://clothos.org/upcoming-area-event/ice-dyeing-day/
LOCATION:Sunset Farm Studio\, 5026 Jones Mill Rd\, Crozet\, VA\, 22932\, United States
END:VEVENT
BEGIN:VEVENT
DTSTART;TZID=America/New_York:20230701T100000
DTEND;TZID=America/New_York:20230701T120000
DTSTAMP:20260426T003052
CREATED:20230614T021832Z
LAST-MODIFIED:20230614T021832Z
UID:43900-1688205600-1688212800@clothos.org
SUMMARY:Fiber Felting Workshop
DESCRIPTION:Fiber Felting Workshop – Simple Hill Farm\n\nJuly 1 @ 10:00 am – 12:00 pm\n\n\n\n\nWant to felt a wool bowl or bag? During this workshop\, you will wet felt a bowl or bag with naturally dyed wool from our merino sheep. Wet felting is the process of creating a wool fabric using warm water\, soap and agitation. This is a beginner felting workshop. From these basics\, you can go on to felt many objects of varying sizes\, shapes and colors! \nLimited to 10 tickets. Open to all ages\, kids under 14 years old must be accompanied by an adult. Up to two people can attend per ticket if you want to share in the making of one bowl or bag. The felting process takes some time and younger kids may lose interest if not assisted along the way. \nThis event includes an optional visit to our flock of merino sheep! Simple Hill Farm yarn and wool will be available for purchase during this event. \nThe event will be held outdoors under canopies. Rain date is July 2 from 10am-noon. If that day does not work for you or is too rainy and we cancel\, we will refund your ticket. \nWe require a minimum of three tickets sold to hold this event\, if the minimum is not met and the workshop is canceled\, a full refund will be issued. If you must cancel\, we can offer a full refund if notified 10 business days prior. No refunds will be issued for dropped registrations less than 10 business days prior. \n\nTo learn more about farm events and to register\, click here.
URL:https://clothos.org/upcoming-area-event/fiber-felting-workshop/
LOCATION:Simple Hill Farm\, 4716 Cromer Rd\, Rockingham\, VA\, 22802\, United States
END:VEVENT
BEGIN:VEVENT
DTSTART;TZID=America/New_York:20230623T080000
DTEND;TZID=America/New_York:20230625T170000
DTSTAMP:20260426T003052
CREATED:20230311T194033Z
LAST-MODIFIED:20230311T194033Z
UID:43868-1687507200-1687712400@clothos.org
SUMMARY:MAFA
DESCRIPTION:
URL:https://clothos.org/upcoming-area-event/mafa/
END:VEVENT
BEGIN:VEVENT
DTSTART;TZID=America/New_York:20230617T110000
DTEND;TZID=America/New_York:20230617T160000
DTSTAMP:20260426T003052
CREATED:20230104T032604Z
LAST-MODIFIED:20230614T021120Z
UID:43774-1686999600-1687017600@clothos.org
SUMMARY:June Meeting
DESCRIPTION:11:30 Guest speaker Martha Polkey\, co-founder of the Chesapeake Fibershed will talk to us about what the Fibershed does and how we can get involved.
URL:https://clothos.org/upcoming-area-event/june-meeting-2/
LOCATION:Glen Allen Cultural Arts Center\, 2880 Mountain Rd\, Glen Allen\, VA\, 23060\, United States
END:VEVENT
BEGIN:VEVENT
DTSTART;TZID=America/New_York:20230520T110000
DTEND;TZID=America/New_York:20230520T160000
DTSTAMP:20260426T003052
CREATED:20230104T032520Z
LAST-MODIFIED:20230104T032520Z
UID:43772-1684580400-1684598400@clothos.org
SUMMARY:May Meeting
DESCRIPTION:
URL:https://clothos.org/upcoming-area-event/may-meeting-2/
LOCATION:Glen Allen Cultural Arts Center\, 2880 Mountain Rd\, Glen Allen\, VA\, 23060\, United States
END:VEVENT
BEGIN:VEVENT
DTSTART;TZID=America/New_York:20230512T080000
DTEND;TZID=America/New_York:20230520T170000
DTSTAMP:20260426T003052
CREATED:20230311T194643Z
LAST-MODIFIED:20230311T194643Z
UID:43875-1683878400-1684602000@clothos.org
SUMMARY:James River Yarn Crawl
DESCRIPTION:Participating stores: \nCenter of the Yarniverse\, Ashland \nDances with Wool\, Midlothian \nYarn Matters\, Williamsburg \nBaa Baa Sheep\, Norfolk \nThe Yarn Club\, Virginia Beach
URL:https://clothos.org/upcoming-area-event/james-river-yarn-crawl/
END:VEVENT
BEGIN:VEVENT
DTSTART;TZID=America/New_York:20230506T080000
DTEND;TZID=America/New_York:20230507T170000
DTSTAMP:20260426T003052
CREATED:20230311T194426Z
LAST-MODIFIED:20230311T194426Z
UID:43872-1683360000-1683478800@clothos.org
SUMMARY:Maryland Sheep & Wool Festival
DESCRIPTION:
URL:https://clothos.org/upcoming-area-event/maryland-sheep-wool-festival/
LOCATION:Howard County Fairgrounds\, West Friendship\, MD
END:VEVENT
BEGIN:VEVENT
DTSTART;TZID=America/New_York:20230422T100000
DTEND;TZID=America/New_York:20230422T160000
DTSTAMP:20260426T003052
CREATED:20230311T193924Z
LAST-MODIFIED:20230311T193924Z
UID:43866-1682157600-1682179200@clothos.org
SUMMARY:SCOTCHTOWN FIBER FESTIVAL
DESCRIPTION:
URL:https://clothos.org/upcoming-area-event/scotchtown-fiber-festival-2/
LOCATION:Patrick Henry’s Scotch Town\, 16120 Chiswell Ln\, Beaverdam\, VA\, 23015\, United States
END:VEVENT
BEGIN:VEVENT
DTSTART;TZID=America/New_York:20230415T110000
DTEND;TZID=America/New_York:20230415T160000
DTSTAMP:20260426T003052
CREATED:20230104T032435Z
LAST-MODIFIED:20230104T032435Z
UID:43770-1681556400-1681574400@clothos.org
SUMMARY:April Meeting
DESCRIPTION:
URL:https://clothos.org/upcoming-area-event/april-meeting-2/
LOCATION:Glen Allen Cultural Arts Center\, 2880 Mountain Rd\, Glen Allen\, VA\, 23060\, United States
END:VEVENT
BEGIN:VEVENT
DTSTART;TZID=America/New_York:20230401T100000
DTEND;TZID=America/New_York:20230401T140000
DTSTAMP:20260426T003052
CREATED:20230311T193738Z
LAST-MODIFIED:20230311T193738Z
UID:43863-1680343200-1680357600@clothos.org
SUMMARY:Shepherds Farmer's Market
DESCRIPTION:
URL:https://clothos.org/upcoming-area-event/shepherds-farmers-market/
END:VEVENT
BEGIN:VEVENT
DTSTART;TZID=America/New_York:20230326T130000
DTEND;TZID=America/New_York:20230326T160000
DTSTAMP:20260426T003052
CREATED:20230311T193621Z
LAST-MODIFIED:20230311T193621Z
UID:43860-1679835600-1679846400@clothos.org
SUMMARY:Plain and Fancy Stitches with Moira and Ellen MacAvoy
DESCRIPTION:
URL:https://clothos.org/upcoming-area-event/plain-and-fancy-stitches-with-moira-and-ellen-macavoy/
LOCATION:Peace Lutheran Church
END:VEVENT
BEGIN:VEVENT
DTSTART;TZID=America/New_York:20230325T140000
DTEND;TZID=America/New_York:20230325T160000
DTSTAMP:20260426T003052
CREATED:20230311T193343Z
LAST-MODIFIED:20230311T193343Z
UID:43858-1679752800-1679760000@clothos.org
SUMMARY:Fiber Felting and Natural Dyeing Fun
DESCRIPTION:
URL:https://clothos.org/upcoming-area-event/fiber-felting-and-natural-dyeing-fun/
LOCATION:Chesapeake Fibershed
END:VEVENT
BEGIN:VEVENT
DTSTART;TZID=America/New_York:20230319T140000
DTEND;TZID=America/New_York:20230319T160000
DTSTAMP:20260426T003052
CREATED:20230311T193232Z
LAST-MODIFIED:20230311T193232Z
UID:43856-1679234400-1679241600@clothos.org
SUMMARY:Planting a Natural Dye Garden
DESCRIPTION:
URL:https://clothos.org/upcoming-area-event/planting-a-natural-dye-garden/
LOCATION:Chesapeake Fibershed
END:VEVENT
BEGIN:VEVENT
DTSTART;TZID=America/New_York:20230318T110000
DTEND;TZID=America/New_York:20230318T160000
DTSTAMP:20260426T003052
CREATED:20230104T032348Z
LAST-MODIFIED:20230104T032348Z
UID:43768-1679137200-1679155200@clothos.org
SUMMARY:March Meeting
DESCRIPTION:
URL:https://clothos.org/upcoming-area-event/march-meeting-2/
LOCATION:Glen Allen Cultural Arts Center\, 2880 Mountain Rd\, Glen Allen\, VA\, 23060\, United States
END:VEVENT
BEGIN:VEVENT
DTSTART;TZID=America/New_York:20230311T133000
DTEND;TZID=America/New_York:20230311T163000
DTSTAMP:20260426T003052
CREATED:20230311T193056Z
LAST-MODIFIED:20230311T193127Z
UID:43853-1678541400-1678552200@clothos.org
SUMMARY:Level 1 Foragers: Willow\, Witchhazel\, & Walnut
DESCRIPTION:
URL:https://clothos.org/upcoming-area-event/level-1-foragers-willow-witchhazel-walnut/
LOCATION:Chesapeake Fibershed
END:VEVENT
BEGIN:VEVENT
DTSTART;TZID=America/New_York:20230311T080000
DTEND;TZID=America/New_York:20230312T170000
DTSTAMP:20260426T003052
CREATED:20230311T192952Z
LAST-MODIFIED:20230311T192952Z
UID:43850-1678521600-1678640400@clothos.org
SUMMARY:Plant and Flowers for Natural Dying with Pat Brodowski
DESCRIPTION:
URL:https://clothos.org/upcoming-area-event/plant-and-flowers-for-natural-dying-with-pat-brodowski/
LOCATION:Wollam Gardens
END:VEVENT
BEGIN:VEVENT
DTSTART;TZID=America/New_York:20230218T110000
DTEND;TZID=America/New_York:20230218T160000
DTSTAMP:20260426T003052
CREATED:20230104T032248Z
LAST-MODIFIED:20230211T220828Z
UID:43766-1676718000-1676736000@clothos.org
SUMMARY:February Meeting
DESCRIPTION:Clothos Spinner’s Guild \nBusiness Meeting Agenda – February 2023 \nGlen Allen Cultural Arts Center\, 2880 Mountain Rd\, Glen Allen\, VA 23060 \n1:00 -2:00 pm \n\nWelcome & Introductions\nUpcoming events\n\nMAFA\nTeaching opportunities (Maria)\nSheep to Shawl – April 22 Scotchtown – We need volunteers (Dawn Burnett – Organizer)\n\n\nTreasurer’s Report (Susan)\nApproval of Minutes of last meeting (Jodi)\nOld business\nNew business\n\nCommittee to design the glass case at the Glen Allen Cultural Arts Center (Susan)\n\n\n\n  \nReminder:  Bring something for the Raffle. Let’s make it something red for Valentine’s Day. Don’t forget to bring some cash. We also take Venmo if you forget!
URL:https://clothos.org/upcoming-area-event/february-meeting-2/
LOCATION:Glen Allen Cultural Arts Center\, 2880 Mountain Rd\, Glen Allen\, VA\, 23060\, United States
END:VEVENT
BEGIN:VEVENT
DTSTART;TZID=America/New_York:20230122T120000
DTEND;TZID=America/New_York:20230122T160000
DTSTAMP:20260426T003052
CREATED:20230104T032005Z
LAST-MODIFIED:20230104T032005Z
UID:43764-1674388800-1674403200@clothos.org
SUMMARY:January Retreat\, day 2
DESCRIPTION:Spinning mohair\, Clinic for new spinners and making name tag. To participate in name tag workshop please bring woven fabric\, felt\, fiber\, yarn\, and needles.
URL:https://clothos.org/upcoming-area-event/january-retreat-day-2/
LOCATION:Glen Allen Cultural Arts Center\, 2880 Mountain Rd\, Glen Allen\, VA\, 23060\, United States
END:VEVENT
BEGIN:VEVENT
DTSTART;TZID=America/New_York:20230121T110000
DTEND;TZID=America/New_York:20230121T160000
DTSTAMP:20260426T003052
CREATED:20230104T031828Z
LAST-MODIFIED:20230104T031828Z
UID:43761-1674298800-1674316800@clothos.org
SUMMARY:January Meeting and Retreat
DESCRIPTION:Saturday tatting workshop and demonstration please bring a shuttle and tatting thread
URL:https://clothos.org/upcoming-area-event/january-meeting-and-retreat/
LOCATION:Glen Allen Cultural Arts Center\, 2880 Mountain Rd\, Glen Allen\, VA\, 23060\, United States
END:VEVENT
BEGIN:VEVENT
DTSTART;TZID=America/New_York:20221210T110000
DTEND;TZID=America/New_York:20221210T160000
DTSTAMP:20260426T003052
CREATED:20220717T134639Z
LAST-MODIFIED:20221121T144934Z
UID:43576-1670670000-1670688000@clothos.org
SUMMARY:December Meeting
DESCRIPTION:Meeting from 11AM to 4PM at Glen Allen Cultural Arts Center. ADDRESS: 2880 Mountain Rd\, Glen Allen\, VA 23060
URL:https://clothos.org/upcoming-area-event/december-meeting/
END:VEVENT
BEGIN:VEVENT
DTSTART;TZID=America/New_York:20221203T110000
DTEND;TZID=America/New_York:20221203T150000
DTSTAMP:20260426T003052
CREATED:20221016T024211Z
LAST-MODIFIED:20221016T024211Z
UID:43639-1670065200-1670079600@clothos.org
SUMMARY:Spinning Demo at Chesterfield County Public Library
DESCRIPTION:Join Clothos members demonstrating the art of handspinning at Chesterfield County Public Library’s Makers Market \nParking available in the side lot at the library
URL:https://clothos.org/upcoming-area-event/spinning-demo-at-chesterfield-county-public-library/
LOCATION:Chesterfield County Public Library\, 9501 Lori Road\, Chesterfield\, VA\, 23832\, United States
END:VEVENT
BEGIN:VEVENT
DTSTART;VALUE=DATE:20221119
DTEND;VALUE=DATE:20221120
DTSTAMP:20260426T003052
CREATED:20220717T134617Z
LAST-MODIFIED:20220914T020355Z
UID:43574-1668816000-1668902399@clothos.org
SUMMARY:40th anniversary celebration & November Meeting
DESCRIPTION:Meeting from 11AM to 4PM at Glen Allen Cultural Arts Center. ADDRESS: 2880 Mountain Rd\, Glen Allen\, VA 23060 \nClothos 40th Anniversary celebration. Please “each one reach one”. Bring someone or reach out to past former members. Fun\, food\, videos/slideshow \nPlease RSVP to Laura at:  threegoats@comcast.net by October 15 so we have the appropriate amount of food. We will try to accommodate food allergies but you must let Laura know by Sept 30 for special dietary needs.
URL:https://clothos.org/upcoming-area-event/november-meeting/
END:VEVENT
BEGIN:VEVENT
DTSTART;TZID=America/New_York:20221021T090000
DTEND;TZID=America/New_York:20221023T180000
DTSTAMP:20260426T003052
CREATED:20220914T020737Z
LAST-MODIFIED:20220914T020737Z
UID:43624-1666342800-1666548000@clothos.org
SUMMARY:SAFF Fiber Festival
DESCRIPTION:Southeastern Animal Fiber Fair
URL:https://clothos.org/upcoming-area-event/saff-fiber-festival/
LOCATION:Fletcher\, NC\, NC\, United States
END:VEVENT
BEGIN:VEVENT
DTSTART;TZID=America/New_York:20221015T090000
DTEND;TZID=America/New_York:20221016T170000
DTSTAMP:20260426T003052
CREATED:20220914T021246Z
LAST-MODIFIED:20220914T021246Z
UID:43627-1665824400-1665939600@clothos.org
SUMMARY:Rhinebeck Fiber Festival
DESCRIPTION:NEW YORK STATE SHEEP AND WOOL FESTIVAL
URL:https://clothos.org/upcoming-area-event/rhinebeck-fiber-festival/
LOCATION:Duchess County Fairgrounds\, Rhinebeck\, NY\, NY\, United States
END:VEVENT
END:VCALENDAR